BEGIN:VCALENDAR
VERSION:2.0
PRODID:-//Министерство физической культуры и спорта Курской области - ECPv6.15.20//NONSGML v1.0//EN
CALSCALE:GREGORIAN
METHOD:PUBLISH
X-ORIGINAL-URL:https://minsport46.ru
X-WR-CALDESC:Мероприятия для Министерство физической культуры и спорта Курской области
REFRESH-INTERVAL;VALUE=DURATION:PT1H
X-Robots-Tag:noindex
X-PUBLISHED-TTL:PT1H
BEGIN:VTIMEZONE
TZID:Europe/Moscow
BEGIN:STANDARD
TZOFFSETFROM:+0300
TZOFFSETTO:+0300
TZNAME:MSK
DTSTART:20170101T000000
END:STANDARD
END:VTIMEZONE
BEGIN:VEVENT
DTSTART;TZID=Europe/Moscow:20190412T173000
DTEND;TZID=Europe/Moscow:20190414T180000
DTSTAMP:20260423T144503
CREATED:20190405T162234Z
LAST-MODIFIED:20190405T162234Z
UID:6477-1555090200-1555264800@minsport46.ru
SUMMARY:Лично-командный Чемпионат Курской области по быстрым шахматам\, посвященный 74-ой годовщине Победы в Великой Отечественной войне
DESCRIPTION:
URL:https://minsport46.ru/event/%d0%bb%d0%b8%d1%87%d0%bd%d0%be-%d0%ba%d0%be%d0%bc%d0%b0%d0%bd%d0%b4%d0%bd%d1%8b%d0%b9-%d1%87%d0%b5%d0%bc%d0%bf%d0%b8%d0%be%d0%bd%d0%b0%d1%82-%d0%ba%d1%83%d1%80%d1%81%d0%ba%d0%be%d0%b9-%d0%be%d0%b1/
LOCATION:Городской шахматный клуб\, ул. Гайдара\, д. 14\, Курск\, Российская Федерация
CATEGORIES:Анонсы мероприятий
ATTACH;FMTTYPE=image/jpeg:https://minsport46.ru/wp-content/uploads/2018/10/-фото-1-e1539158873485.jpg
END:VEVENT
BEGIN:VEVENT
DTSTART;VALUE=DATE:20190331
DTEND;VALUE=DATE:20190419
DTSTAMP:20260423T144503
CREATED:20190322T113151Z
LAST-MODIFIED:20190322T113151Z
UID:6256-1553990400-1555631999@minsport46.ru
SUMMARY:Чемпионат Курской области среди шахматистов городов и муниципальных районов
DESCRIPTION:
URL:https://minsport46.ru/event/%d1%87%d0%b5%d0%bc%d0%bf%d0%b8%d0%be%d0%bd%d0%b0%d1%82-%d0%ba%d1%83%d1%80%d1%81%d0%ba%d0%be%d0%b9-%d0%be%d0%b1%d0%bb%d0%b0%d1%81%d1%82%d0%b8-%d1%81%d1%80%d0%b5%d0%b4%d0%b8-%d1%88%d0%b0%d1%85%d0%bc/
LOCATION:Городской шахматный клуб\, ул. Гайдара\, д. 14\, Курск\, Российская Федерация
CATEGORIES:Анонсы мероприятий
ATTACH;FMTTYPE=image/jpeg:https://minsport46.ru/wp-content/uploads/2019/03/шахматы-фото-3.jpg
END:VEVENT
BEGIN:VEVENT
DTSTART;TZID=Europe/Moscow:20190330T103000
DTEND;TZID=Europe/Moscow:20190330T180000
DTSTAMP:20260423T144503
CREATED:20190322T090412Z
LAST-MODIFIED:20190322T090412Z
UID:6246-1553941800-1553968800@minsport46.ru
SUMMARY:Чемпионат Курской области по гиревому спорту посвященный Дню единения народов Белоруссии и России
DESCRIPTION:
URL:https://minsport46.ru/event/%d1%87%d0%b5%d0%bc%d0%bf%d0%b8%d0%be%d0%bd%d0%b0%d1%82-%d0%ba%d1%83%d1%80%d1%81%d0%ba%d0%be%d0%b9-%d0%be%d0%b1%d0%bb%d0%b0%d1%81%d1%82%d0%b8-%d0%bf%d0%be-%d0%b3%d0%b8%d1%80%d0%b5%d0%b2%d0%be%d0%bc/
LOCATION:г. Железногорск\, Железногорск
CATEGORIES:Анонсы мероприятий
ATTACH;FMTTYPE=image/jpeg:https://minsport46.ru/wp-content/uploads/2019/03/гиревой-спорт-фото-3.jpg
END:VEVENT
BEGIN:VEVENT
DTSTART;TZID=Europe/Moscow:20190303T110000
DTEND;TZID=Europe/Moscow:20190303T160000
DTSTAMP:20260423T144503
CREATED:20190228T083549Z
LAST-MODIFIED:20190228T083549Z
UID:5681-1551610800-1551628800@minsport46.ru
SUMMARY:Чемпионат  Курской области по автомобильному кроссу (III этап) зимний
DESCRIPTION:
URL:https://minsport46.ru/event/%d1%87%d0%b5%d0%bc%d0%bf%d0%b8%d0%be%d0%bd%d0%b0%d1%82-%d0%ba%d1%83%d1%80%d1%81%d0%ba%d0%be%d0%b9-%d0%be%d0%b1%d0%bb%d0%b0%d1%81%d1%82%d0%b8-%d0%bf%d0%be-%d0%b0%d0%b2%d1%82%d0%be%d0%bc%d0%be%d0%b1-2/
LOCATION:ул. Воздушная\, ул. Воздушная\, Курск\, Российская Федерация
CATEGORIES:Анонсы мероприятий
ATTACH;FMTTYPE=image/jpeg:https://minsport46.ru/wp-content/uploads/2019/01/автомобильный-кросс-зимний-фото-2.jpg
END:VEVENT
BEGIN:VEVENT
DTSTART;TZID=Europe/Moscow:20190303T100000
DTEND;TZID=Europe/Moscow:20190303T150000
DTSTAMP:20260423T144503
CREATED:20190228T083421Z
LAST-MODIFIED:20190228T083421Z
UID:5678-1551607200-1551625200@minsport46.ru
SUMMARY:Чемпионат Курской области по лыжному марафону (VI этап)
DESCRIPTION:
URL:https://minsport46.ru/event/%d1%87%d0%b5%d0%bc%d0%bf%d0%b8%d0%be%d0%bd%d0%b0%d1%82-%d0%ba%d1%83%d1%80%d1%81%d0%ba%d0%be%d0%b9-%d0%be%d0%b1%d0%bb%d0%b0%d1%81%d1%82%d0%b8-%d0%bf%d0%be-%d0%bb%d1%8b%d0%b6%d0%bd%d0%be%d0%bc%d1%83/
LOCATION:Парк Солянка\, урочище Моква\, Курск
CATEGORIES:Анонсы мероприятий
ATTACH;FMTTYPE=image/jpeg:https://minsport46.ru/wp-content/uploads/2019/01/лыжные-гонки-фото-5.jpg
END:VEVENT
BEGIN:VEVENT
DTSTART;TZID=Europe/Moscow:20190216T100000
DTEND;TZID=Europe/Moscow:20190216T180000
DTSTAMP:20260423T144503
CREATED:20190211T125714Z
LAST-MODIFIED:20190211T125714Z
UID:5331-1550311200-1550340000@minsport46.ru
SUMMARY:XVI Чемпионат Курской области по шахматам и шашкам среди инвалидов по зрению
DESCRIPTION:
URL:https://minsport46.ru/event/xvi-%d1%87%d0%b5%d0%bc%d0%bf%d0%b8%d0%be%d0%bd%d0%b0%d1%82-%d0%ba%d1%83%d1%80%d1%81%d0%ba%d0%be%d0%b9-%d0%be%d0%b1%d0%bb%d0%b0%d1%81%d1%82%d0%b8-%d0%bf%d0%be-%d1%88%d0%b0%d1%85%d0%bc%d0%b0%d1%82%d0%b0/
LOCATION:Городской шахматный клуб\, ул. Гайдара\, д. 14\, Курск\, Российская Федерация
CATEGORIES:Анонсы мероприятий
ATTACH;FMTTYPE=image/jpeg:https://minsport46.ru/wp-content/uploads/2018/10/-фото-1-e1539158873485.jpg
END:VEVENT
BEGIN:VEVENT
DTSTART;TZID=Europe/Moscow:20190131T060000
DTEND;TZID=Europe/Moscow:20190525T180000
DTSTAMP:20260423T144503
CREATED:20190128T124648Z
LAST-MODIFIED:20190128T124648Z
UID:5136-1548914400-1558807200@minsport46.ru
SUMMARY:Чемпионат Курской области по хоккею с мячом
DESCRIPTION:
URL:https://minsport46.ru/event/%d1%87%d0%b5%d0%bc%d0%bf%d0%b8%d0%be%d0%bd%d0%b0%d1%82-%d0%ba%d1%83%d1%80%d1%81%d0%ba%d0%be%d0%b9-%d0%be%d0%b1%d0%bb%d0%b0%d1%81%d1%82%d0%b8-%d0%bf%d0%be-%d1%85%d0%be%d0%ba%d0%ba%d0%b5%d1%8e-%d1%81/
LOCATION:АУ КО  «СШ «Арена»\, ул. Веспремская\, 9\, Курск\, Российская Федерация
CATEGORIES:Анонсы мероприятий
ATTACH;FMTTYPE=image/jpeg:https://minsport46.ru/wp-content/uploads/2018/10/хоккей-с-мячом-фото-1.jpg
END:VEVENT
BEGIN:VEVENT
DTSTART;TZID=Europe/Moscow:20190125T150000
DTEND;TZID=Europe/Moscow:20190127T180000
DTSTAMP:20260423T144503
CREATED:20190118T140922Z
LAST-MODIFIED:20190118T140922Z
UID:4946-1548428400-1548612000@minsport46.ru
SUMMARY:Чемпионат и Первенство Курской области по боксу среди юношей 2003-04 г.р. посвященное ЗТР А.И. Рогозину
DESCRIPTION:
URL:https://minsport46.ru/event/%d1%87%d0%b5%d0%bc%d0%bf%d0%b8%d0%be%d0%bd%d0%b0%d1%82-%d0%b8-%d0%bf%d0%b5%d1%80%d0%b2%d0%b5%d0%bd%d1%81%d1%82%d0%b2%d0%be-%d0%ba%d1%83%d1%80%d1%81%d0%ba%d0%be%d0%b9-%d0%be%d0%b1%d0%bb%d0%b0%d1%81-10/
LOCATION:«Физкультурно-спортивный центр» ЮЗГУ\, ул. 50 лет Октября\, д.94\, Курск\, Российская Федерация
CATEGORIES:Анонсы мероприятий
ATTACH;FMTTYPE=image/jpeg:https://minsport46.ru/wp-content/uploads/2019/01/бокс-фото-1.jpg
END:VEVENT
BEGIN:VEVENT
DTSTART;TZID=Europe/Moscow:20190119T120000
DTEND;TZID=Europe/Moscow:20190119T180000
DTSTAMP:20260423T144503
CREATED:20190111T152228Z
LAST-MODIFIED:20190111T152243Z
UID:4823-1547899200-1547920800@minsport46.ru
SUMMARY:Чемпионат и Первенство Курской области по легкой атлетике
DESCRIPTION:
URL:https://minsport46.ru/event/%d1%87%d0%b5%d0%bc%d0%bf%d0%b8%d0%be%d0%bd%d0%b0%d1%82-%d0%b8-%d0%bf%d0%b5%d1%80%d0%b2%d0%b5%d0%bd%d1%81%d1%82%d0%b2%d0%be-%d0%ba%d1%83%d1%80%d1%81%d0%ba%d0%be%d0%b9-%d0%be%d0%b1%d0%bb%d0%b0%d1%81-8/
LOCATION:легкоатлетический манеж (город Губкин)\, Губкин
CATEGORIES:Анонсы мероприятий
ATTACH;FMTTYPE=image/jpeg:https://minsport46.ru/wp-content/uploads/2018/12/легкая-атлетика-фото-2.jpg
END:VEVENT
BEGIN:VEVENT
DTSTART;TZID=Europe/Moscow:20181215T110000
DTEND;TZID=Europe/Moscow:20181216T190000
DTSTAMP:20260423T144503
CREATED:20181207T141524Z
LAST-MODIFIED:20181207T141524Z
UID:4193-1544871600-1544986800@minsport46.ru
SUMMARY:Чемпионат Курской области по настольному теннису
DESCRIPTION:
URL:https://minsport46.ru/event/%d1%87%d0%b5%d0%bc%d0%bf%d0%b8%d0%be%d0%bd%d0%b0%d1%82-%d0%ba%d1%83%d1%80%d1%81%d0%ba%d0%be%d0%b9-%d0%be%d0%b1%d0%bb%d0%b0%d1%81%d1%82%d0%b8-%d0%bf%d0%be-%d0%bd%d0%b0%d1%81%d1%82%d0%be%d0%bb%d1%8c/
LOCATION:ФОК «Старт»\, ул. Димитрова\, 20\, Железногорск\, Российская Федерация
CATEGORIES:Анонсы мероприятий
ATTACH;FMTTYPE=image/jpeg:https://minsport46.ru/wp-content/uploads/2018/11/настольный-теннис-фото-1.jpg
END:VEVENT
BEGIN:VEVENT
DTSTART;TZID=Europe/Moscow:20181201T160000
DTEND;TZID=Europe/Moscow:20181201T220000
DTSTAMP:20260423T144503
CREATED:20181123T141215Z
LAST-MODIFIED:20181123T141215Z
UID:3783-1543680000-1543701600@minsport46.ru
SUMMARY:Чемпионат Курской области по бодибилдингу IFBB «Носорог про - 10»
DESCRIPTION:
URL:https://minsport46.ru/event/%d1%87%d0%b5%d0%bc%d0%bf%d0%b8%d0%be%d0%bd%d0%b0%d1%82-%d0%ba%d1%83%d1%80%d1%81%d0%ba%d0%be%d0%b9-%d0%be%d0%b1%d0%bb%d0%b0%d1%81%d1%82%d0%b8-%d0%bf%d0%be-%d0%b1%d0%be%d0%b4%d0%b8%d0%b1%d0%b8%d0%bb/
LOCATION:«Мегакомплекс «ГРИНН»\, ул. Карла Маркса\, д. 68Б\, Курск\, Российская Федерация
CATEGORIES:Анонсы мероприятий
ATTACH;FMTTYPE=image/jpeg:https://minsport46.ru/wp-content/uploads/2018/11/носорог-про-10-фото-1.jpg
END:VEVENT
BEGIN:VEVENT
DTSTART;TZID=Europe/Moscow:20181110T150000
DTEND;TZID=Europe/Moscow:20181129T190000
DTSTAMP:20260423T144503
CREATED:20181115T142334Z
LAST-MODIFIED:20181120T125808Z
UID:3441-1541862000-1543518000@minsport46.ru
SUMMARY:Чемпионат  Курской области по русским шашкам среди мужчин
DESCRIPTION:
URL:https://minsport46.ru/event/%d1%87%d0%b5%d0%bc%d0%bf%d0%b8%d0%be%d0%bd%d0%b0%d1%82-%d0%ba%d1%83%d1%80%d1%81%d0%ba%d0%be%d0%b9-%d0%be%d0%b1%d0%bb%d0%b0%d1%81%d1%82%d0%b8-%d0%bf%d0%be-%d1%80%d1%83%d1%81%d1%81%d0%ba%d0%b8%d0%bc/
CATEGORIES:Анонсы мероприятий
ATTACH;FMTTYPE=image/jpeg:https://minsport46.ru/wp-content/uploads/2018/10/-фото-1-e1539158745998.jpg
END:VEVENT
END:VCALENDAR