BEGIN:VCALENDAR
VERSION:2.0
PRODID:-//Министерство физической культуры и спорта Курской области - ECPv6.15.20//NONSGML v1.0//EN
CALSCALE:GREGORIAN
METHOD:PUBLISH
X-ORIGINAL-URL:https://minsport46.ru
X-WR-CALDESC:Мероприятия для Министерство физической культуры и спорта Курской области
REFRESH-INTERVAL;VALUE=DURATION:PT1H
X-Robots-Tag:noindex
X-PUBLISHED-TTL:PT1H
BEGIN:VTIMEZONE
TZID:Europe/Moscow
BEGIN:STANDARD
TZOFFSETFROM:+0300
TZOFFSETTO:+0300
TZNAME:MSK
DTSTART:20170101T000000
END:STANDARD
END:VTIMEZONE
BEGIN:VEVENT
DTSTART;TZID=Europe/Moscow:20181121T133000
DTEND;TZID=Europe/Moscow:20181123T170000
DTSTAMP:20260420T114431
CREATED:20181115T143516Z
LAST-MODIFIED:20181115T143516Z
UID:3456-1542807000-1542992400@minsport46.ru
SUMMARY:Чемпионат и Первенство Курской области по плаванию
DESCRIPTION:
URL:https://minsport46.ru/event/%d1%87%d0%b5%d0%bc%d0%bf%d0%b8%d0%be%d0%bd%d0%b0%d1%82-%d0%b8-%d0%bf%d0%b5%d1%80%d0%b2%d0%b5%d0%bd%d1%81%d1%82%d0%b2%d0%be-%d0%ba%d1%83%d1%80%d1%81%d0%ba%d0%be%d0%b9-%d0%be%d0%b1%d0%bb%d0%b0%d1%81-7/
CATEGORIES:Анонсы мероприятий
ATTACH;FMTTYPE=image/jpeg:https://minsport46.ru/wp-content/uploads/2018/10/плавание-фото-2.jpg
END:VEVENT
END:VCALENDAR