BEGIN:VCALENDAR
VERSION:2.0
PRODID:-//Министерство физической культуры и спорта Курской области - ECPv6.15.20//NONSGML v1.0//EN
CALSCALE:GREGORIAN
METHOD:PUBLISH
X-ORIGINAL-URL:https://minsport46.ru
X-WR-CALDESC:Мероприятия для Министерство физической культуры и спорта Курской области
REFRESH-INTERVAL;VALUE=DURATION:PT1H
X-Robots-Tag:noindex
X-PUBLISHED-TTL:PT1H
BEGIN:VTIMEZONE
TZID:Europe/Moscow
BEGIN:STANDARD
TZOFFSETFROM:+0300
TZOFFSETTO:+0300
TZNAME:MSK
DTSTART:20180101T000000
END:STANDARD
END:VTIMEZONE
BEGIN:VEVENT
DTSTART;TZID=Europe/Moscow:20190323T100000
DTEND;TZID=Europe/Moscow:20190325T180000
DTSTAMP:20260419T161405
CREATED:20190322T084920Z
LAST-MODIFIED:20190322T084946Z
UID:6228-1553335200-1553536800@minsport46.ru
SUMMARY:Кубок Губернатора Курской области по конному спорту (конкур)
DESCRIPTION:
URL:https://minsport46.ru/event/%d0%ba%d1%83%d0%b1%d0%be%d0%ba-%d0%b3%d1%83%d0%b1%d0%b5%d1%80%d0%bd%d0%b0%d1%82%d0%be%d1%80%d0%b0-%d0%ba%d1%83%d1%80%d1%81%d0%ba%d0%be%d0%b9-%d0%be%d0%b1%d0%bb%d0%b0%d1%81%d1%82%d0%b8-%d0%bf%d0%be-3/
LOCATION:Конноспортивная школа Курской области\, ул. Магистральная\, 42\, Курск\, Russian Federation
CATEGORIES:Анонсы мероприятий
ATTACH;FMTTYPE=image/jpeg:https://minsport46.ru/wp-content/uploads/2019/03/куб.-Губер.-конный-спорт-2019-фото-1.jpg
END:VEVENT
BEGIN:VEVENT
DTSTART;TZID=Europe/Moscow:20190224T090000
DTEND;TZID=Europe/Moscow:20190224T150000
DTSTAMP:20260419T161405
CREATED:20190211T131352Z
LAST-MODIFIED:20190211T131352Z
UID:5361-1550998800-1551020400@minsport46.ru
SUMMARY:Соревнования по лыжным гонкам «Кубок Губернатора Курской области»
DESCRIPTION:
URL:https://minsport46.ru/event/%d1%81%d0%be%d1%80%d0%b5%d0%b2%d0%bd%d0%be%d0%b2%d0%b0%d0%bd%d0%b8%d1%8f-%d0%bf%d0%be-%d0%bb%d1%8b%d0%b6%d0%bd%d1%8b%d0%bc-%d0%b3%d0%be%d0%bd%d0%ba%d0%b0%d0%bc-%d0%ba%d1%83%d0%b1%d0%be%d0%ba/
LOCATION:Парк Солянка\, урочище Моква\, Курск
CATEGORIES:Анонсы мероприятий
ATTACH;FMTTYPE=image/jpeg:https://minsport46.ru/wp-content/uploads/2019/02/лыжные-гонки-фото-6.jpg
END:VEVENT
END:VCALENDAR